BEGIN:VCALENDAR
PRODID:-//eluceo/ical//2.0/EN
VERSION:2.0
CALSCALE:GREGORIAN
BEGIN:VEVENT
UID:event-499
DTSTAMP:20260420T140512Z
SUMMARY:Eerstejaarscommissie boottocht 
DESCRIPTION:Lieve allemaal\, Donderdag 30 april is het tijd voor de tweede 
 eerstejaars activiteit! Na een geslaagd bierpongtoernooi gaan we anderhalf
  uur varen over de grachten van Utrecht! Ook zijn er bij je kaartje vier d
 rankjes inbegrepen! Zien we je dan? Veel liefs\, De EJC
DTSTART:20260430T160000Z
DTEND:20260430T174500Z
END:VEVENT
BEGIN:VTIMEZONE
TZID:UTC
BEGIN:STANDARD
DTSTART:20260430T160000
TZNAME:UTC
TZOFFSETTO:+0000
TZOFFSETFROM:+0000
END:STANDARD
END:VTIMEZONE
END:VCALENDAR
